BEGIN:VCALENDAR
VERSION:2.0
PRODID:-//Paul Attaway - ECPv6.15.20//NONSGML v1.0//EN
CALSCALE:GREGORIAN
METHOD:PUBLISH
X-ORIGINAL-URL:https://paulattaway.com
X-WR-CALDESC:Events for Paul Attaway
REFRESH-INTERVAL;VALUE=DURATION:PT1H
X-Robots-Tag:noindex
X-PUBLISHED-TTL:PT1H
BEGIN:VTIMEZONE
TZID:America/New_York
BEGIN:DAYLIGHT
TZOFFSETFROM:-0500
TZOFFSETTO:-0400
TZNAME:EDT
DTSTART:20240310T070000
END:DAYLIGHT
BEGIN:STANDARD
TZOFFSETFROM:-0400
TZOFFSETTO:-0500
TZNAME:EST
DTSTART:20241103T060000
END:STANDARD
BEGIN:DAYLIGHT
TZOFFSETFROM:-0500
TZOFFSETTO:-0400
TZNAME:EDT
DTSTART:20250309T070000
END:DAYLIGHT
BEGIN:STANDARD
TZOFFSETFROM:-0400
TZOFFSETTO:-0500
TZNAME:EST
DTSTART:20251102T060000
END:STANDARD
BEGIN:DAYLIGHT
TZOFFSETFROM:-0500
TZOFFSETTO:-0400
TZNAME:EDT
DTSTART:20260308T070000
END:DAYLIGHT
BEGIN:STANDARD
TZOFFSETFROM:-0400
TZOFFSETTO:-0500
TZNAME:EST
DTSTART:20261101T060000
END:STANDARD
BEGIN:DAYLIGHT
TZOFFSETFROM:-0500
TZOFFSETTO:-0400
TZNAME:EDT
DTSTART:20270314T070000
END:DAYLIGHT
BEGIN:STANDARD
TZOFFSETFROM:-0400
TZOFFSETTO:-0500
TZNAME:EST
DTSTART:20271107T060000
END:STANDARD
END:VTIMEZONE
BEGIN:VEVENT
DTSTART;VALUE=DATE:20260403
DTEND;VALUE=DATE:20260404
DTSTAMP:20260425T145545
CREATED:20251008T232047Z
LAST-MODIFIED:20260203T200330Z
UID:404-1775174400-1775260799@paulattaway.com
SUMMARY:Litchfield Books
DESCRIPTION:Come see Paul talk about his latest book\, Blood Rivalry at Litchfield Books.
URL:https://paulattaway.com/event/litchfield-books/
LOCATION:Litchfield Books\, 11421 Ocean Hwy\, Unit D\, Pawley's Island\, SC\, 29585\, United States
END:VEVENT
BEGIN:VEVENT
DTSTART;VALUE=DATE:20260314
DTEND;VALUE=DATE:20260315
DTSTAMP:20260425T145545
CREATED:20251008T231748Z
LAST-MODIFIED:20251008T232236Z
UID:401-1773446400-1773532799@paulattaway.com
SUMMARY:Emry's Bookshop
DESCRIPTION:Come see Paul talk about his latest book\, Blood Rivalry at Emry’s Bookshop.
URL:https://paulattaway.com/event/emrys-bookshop/
LOCATION:Emry’s Bookshop\, 95 Mathews Dr\, STE A5\, Hilton Head Island\, SC\, 29926\, United States
END:VEVENT
BEGIN:VEVENT
DTSTART;TZID=America/New_York:20260310T173000
DTEND;TZID=America/New_York:20260310T193000
DTSTAMP:20260425T145545
CREATED:20260121T172543Z
LAST-MODIFIED:20260216T205653Z
UID:438-1773163800-1773171000@paulattaway.com
SUMMARY:Main Street Reads
DESCRIPTION:Come see Paul talk about his latest book\, Blood Rivalry\, at Main Street Reads.
URL:https://paulattaway.com/event/main-street-reads/
LOCATION:Main Street Reads\, 115 S. Main St.\, Summerville\, SC\, 29483\, United States
END:VEVENT
BEGIN:VEVENT
DTSTART;VALUE=DATE:20260304
DTEND;VALUE=DATE:20260305
DTSTAMP:20260425T145545
CREATED:20251008T231455Z
LAST-MODIFIED:20251008T231455Z
UID:397-1772582400-1772668799@paulattaway.com
SUMMARY:Buxton Books
DESCRIPTION:Come see Paul talk about his latest book\, Blood Rivalry at Buxton Books.
URL:https://paulattaway.com/event/buxton-books/
LOCATION:Buxton Books\, 160 King Street\, Charleston\, SC\, 29401\, United States
END:VEVENT
BEGIN:VEVENT
DTSTART;TZID=America/New_York:20260116T160000
DTEND;TZID=America/New_York:20260116T180000
DTSTAMP:20260425T145545
CREATED:20260105T191902Z
LAST-MODIFIED:20260105T192909Z
UID:426-1768579200-1768586400@paulattaway.com
SUMMARY:Wild Dunes
DESCRIPTION:Come hang out with Paul and talk about his latest book\, Blood Rivalry at the 21st Annual Wild Dunes Author Event & Weekend.
URL:https://paulattaway.com/event/wild-dunes/
LOCATION:Wild Dunes\, 5757 Palm Blvd\, Isle of Palms\, SC\, 29451\, United States
END:VEVENT
BEGIN:VEVENT
DTSTART;TZID=America/New_York:20251108T120000
DTEND;TZID=America/New_York:20251108T170000
DTSTAMP:20260425T145545
CREATED:20250926T160724Z
LAST-MODIFIED:20250926T160724Z
UID:376-1762603200-1762621200@paulattaway.com
SUMMARY:Front Paige Media Book Fair
DESCRIPTION:Join me at the Front Paige Media Book Fair where I’ll be signing books alongside other amazing authors. This event is free and open to the public\, so come out and enjoy a day filled with stories\, creativity\, and the chance to connect with writers.
URL:https://paulattaway.com/event/front-paige-media-book-fair/
LOCATION:Firefly Distillery\, 4201 Spruill Ave.\, North Charleston\, SC\, 29405\, United States
END:VEVENT
BEGIN:VEVENT
DTSTART;TZID=America/New_York:20250729T110000
DTEND;TZID=America/New_York:20250729T150000
DTSTAMP:20260425T145545
CREATED:20250926T162127Z
LAST-MODIFIED:20250926T162127Z
UID:381-1753786800-1753801200@paulattaway.com
SUMMARY:Brunch & Books
DESCRIPTION:
URL:https://paulattaway.com/event/brunch-books/
LOCATION:Edmund’s Oast\, 1079 Morrison Dr\, Charleston\, SC\, 29403\, United States
END:VEVENT
END:VCALENDAR